BEGIN:VCALENDAR
VERSION:2.0
PRODID:-//Lake Delavan Highlands Association - ECPv6.15.13//NONSGML v1.0//EN
CALSCALE:GREGORIAN
METHOD:PUBLISH
X-WR-CALNAME:Lake Delavan Highlands Association
X-ORIGINAL-URL:https://lakedelavanhighlandsassociation.org
X-WR-CALDESC:Events for Lake Delavan Highlands Association
REFRESH-INTERVAL;VALUE=DURATION:PT1H
X-Robots-Tag:noindex
X-PUBLISHED-TTL:PT1H
BEGIN:VTIMEZONE
TZID:America/Chicago
BEGIN:DAYLIGHT
TZOFFSETFROM:-0600
TZOFFSETTO:-0500
TZNAME:CDT
DTSTART:20240310T080000
END:DAYLIGHT
BEGIN:STANDARD
TZOFFSETFROM:-0500
TZOFFSETTO:-0600
TZNAME:CST
DTSTART:20241103T070000
END:STANDARD
BEGIN:DAYLIGHT
TZOFFSETFROM:-0600
TZOFFSETTO:-0500
TZNAME:CDT
DTSTART:20250309T080000
END:DAYLIGHT
BEGIN:STANDARD
TZOFFSETFROM:-0500
TZOFFSETTO:-0600
TZNAME:CST
DTSTART:20251102T070000
END:STANDARD
BEGIN:DAYLIGHT
TZOFFSETFROM:-0600
TZOFFSETTO:-0500
TZNAME:CDT
DTSTART:20260308T080000
END:DAYLIGHT
BEGIN:STANDARD
TZOFFSETFROM:-0500
TZOFFSETTO:-0600
TZNAME:CST
DTSTART:20261101T070000
END:STANDARD
END:VTIMEZONE
BEGIN:VEVENT
DTSTART;TZID=America/Chicago:20250913T090000
DTEND;TZID=America/Chicago:20250913T100000
DTSTAMP:20260420T125812
CREATED:20250318T015842Z
LAST-MODIFIED:20250910T014122Z
UID:3911-1757754000-1757757600@lakedelavanhighlandsassociation.org
SUMMARY:Board of Director Meeting **RESCHEDULED**
DESCRIPTION:Members are invited to attend the meeting online (GoTo Webinar) or in-person (Joe Russo Pavilion). \nAGENDA: September 13 LDHA Agenda \nEven if you cannot attend\, registering will give you access to the recorded meeting. \nIf you have any questions or comments\, please send them to secretary@ldhabod.org ahead of time. \n  \nPlease register for LDHA Board of Directors Meeting on Sept 13\, 2025 9:00 AM CDT at: \nhttps://attendee.gotowebinar.com/register/3238534979819613270 \nAfter registering\, you will receive a confirmation email containing information about joining the webinar. \nBrought to you by GoTo Webinar®\nWebinars Made Easy®
URL:https://lakedelavanhighlandsassociation.org/event/board-of-director-meeting-25/
LOCATION:Joe Russo Pavilion & Canteen\, 4230 Beach Drive\, Delavan\, WI\, 53115\, United States
CATEGORIES:Board Meeting,Meetings
ORGANIZER;CN="LDHA Board of Directors":MAILTO:secretary@ldhabod.org
END:VEVENT
END:VCALENDAR