BEGIN:VCALENDAR
VERSION:2.0
PRODID:-//Lake Delavan Highlands Association - ECPv6.15.13//NONSGML v1.0//EN
CALSCALE:GREGORIAN
METHOD:PUBLISH
X-WR-CALNAME:Lake Delavan Highlands Association
X-ORIGINAL-URL:https://lakedelavanhighlandsassociation.org
X-WR-CALDESC:Events for Lake Delavan Highlands Association
REFRESH-INTERVAL;VALUE=DURATION:PT1H
X-Robots-Tag:noindex
X-PUBLISHED-TTL:PT1H
BEGIN:VTIMEZONE
TZID:America/Chicago
BEGIN:DAYLIGHT
TZOFFSETFROM:-0600
TZOFFSETTO:-0500
TZNAME:CDT
DTSTART:20230312T080000
END:DAYLIGHT
BEGIN:STANDARD
TZOFFSETFROM:-0500
TZOFFSETTO:-0600
TZNAME:CST
DTSTART:20231105T070000
END:STANDARD
BEGIN:DAYLIGHT
TZOFFSETFROM:-0600
TZOFFSETTO:-0500
TZNAME:CDT
DTSTART:20240310T080000
END:DAYLIGHT
BEGIN:STANDARD
TZOFFSETFROM:-0500
TZOFFSETTO:-0600
TZNAME:CST
DTSTART:20241103T070000
END:STANDARD
BEGIN:DAYLIGHT
TZOFFSETFROM:-0600
TZOFFSETTO:-0500
TZNAME:CDT
DTSTART:20250309T080000
END:DAYLIGHT
BEGIN:STANDARD
TZOFFSETFROM:-0500
TZOFFSETTO:-0600
TZNAME:CST
DTSTART:20251102T070000
END:STANDARD
END:VTIMEZONE
BEGIN:VTIMEZONE
TZID:UTC
BEGIN:STANDARD
TZOFFSETFROM:+0000
TZOFFSETTO:+0000
TZNAME:UTC
DTSTART:20220101T000000
END:STANDARD
END:VTIMEZONE
BEGIN:VEVENT
DTSTART;TZID=America/Chicago:20240615T110000
DTEND;TZID=America/Chicago:20240615T120000
DTSTAMP:20260420T061550
CREATED:20240614T020752Z
LAST-MODIFIED:20240614T020752Z
UID:3683-1718449200-1718452800@lakedelavanhighlandsassociation.org
SUMMARY:Board of Director Meeting
DESCRIPTION:Members are invited to attend the meeting online. \nEven if you cannot attend\, registering will give you access to the recorded meeting. \nIf you have any questions or comments\, please send them to the secretary ahead of time. \n 
URL:https://lakedelavanhighlandsassociation.org/event/board-of-director-meeting-12/
LOCATION:GoTo Meeting
CATEGORIES:Board Meeting,Meetings
ATTACH;FMTTYPE=image/png:https://lakedelavanhighlandsassociation.org/wp-content/uploads/2024/06/Screenshot-2024-06-13-210637.png
ORGANIZER;CN="LDHA Board of Directors":MAILTO:secretary@ldhabod.org
END:VEVENT
BEGIN:VEVENT
DTSTART;TZID=America/Chicago:20240525T100000
DTEND;TZID=America/Chicago:20240525T110000
DTSTAMP:20260420T061550
CREATED:20240519T225502Z
LAST-MODIFIED:20240520T001539Z
UID:3551-1716631200-1716634800@lakedelavanhighlandsassociation.org
SUMMARY:Board of Director Meeting
DESCRIPTION:Agenda and Login Info to Follow
URL:https://lakedelavanhighlandsassociation.org/event/board-of-director-meeting-13/
LOCATION:GoTo Meeting
CATEGORIES:Board Meeting,Meetings
ATTACH;FMTTYPE=image/png:https://lakedelavanhighlandsassociation.org/wp-content/uploads/2024/05/Screenshot-2024-05-19-181356.png
ORGANIZER;CN="LDHA Board of Directors":MAILTO:secretary@ldhabod.org
END:VEVENT
BEGIN:VEVENT
DTSTART;TZID=UTC:20240324T103000
DTEND;TZID=UTC:20240324T120000
DTSTAMP:20260420T061550
CREATED:20240225T140717Z
LAST-MODIFIED:20240225T140717Z
UID:3439-1711276200-1711281600@lakedelavanhighlandsassociation.org
SUMMARY:Board of Director Meeting
DESCRIPTION:
URL:https://lakedelavanhighlandsassociation.org/event/board-of-director-meeting-9/
LOCATION:Wagon Wheel\, 2891 County Rd O South\, Delavan\, WI\, 53115\, United States
CATEGORIES:Board Meeting,Meetings
ORGANIZER;CN="LDHA Board of Directors":MAILTO:secretary@ldhabod.org
END:VEVENT
BEGIN:VEVENT
DTSTART;TZID=UTC:20231216T090000
DTEND;TZID=UTC:20231216T110000
DTSTAMP:20260420T061550
CREATED:20230109T022036Z
LAST-MODIFIED:20230109T022147Z
UID:1090-1702717200-1702724400@lakedelavanhighlandsassociation.org
SUMMARY:Board of Director Meeting
DESCRIPTION:
URL:https://lakedelavanhighlandsassociation.org/event/board-of-director-meeting-11/
LOCATION:Wagon Wheel\, 2891 County Rd O South\, Delavan\, WI\, 53115\, United States
CATEGORIES:Board Meeting,Meetings
ORGANIZER;CN="LDHA Board of Directors":MAILTO:secretary@ldhabod.org
END:VEVENT
BEGIN:VEVENT
DTSTART;TZID=UTC:20231118T090000
DTEND;TZID=UTC:20231118T110000
DTSTAMP:20260420T061550
CREATED:20230109T021246Z
LAST-MODIFIED:20230819T135315Z
UID:1083-1700298000-1700305200@lakedelavanhighlandsassociation.org
SUMMARY:Board of Director Meeting
DESCRIPTION:
URL:https://lakedelavanhighlandsassociation.org/event/board-of-director-meeting-10/
LOCATION:GoTo Meeting
CATEGORIES:Board Meeting,Meetings
ORGANIZER;CN="LDHA Board of Directors":MAILTO:secretary@ldhabod.org
END:VEVENT
BEGIN:VEVENT
DTSTART;TZID=UTC:20230916T090000
DTEND;TZID=UTC:20230916T110000
DTSTAMP:20260420T061550
CREATED:20230109T021145Z
LAST-MODIFIED:20230819T135108Z
UID:1079-1694854800-1694862000@lakedelavanhighlandsassociation.org
SUMMARY:Board of Director Meeting
DESCRIPTION:
URL:https://lakedelavanhighlandsassociation.org/event/board-of-director-meeting-8/
LOCATION:GoTo Meeting
CATEGORIES:Board Meeting,Meetings
ORGANIZER;CN="LDHA Board of Directors":MAILTO:secretary@ldhabod.org
END:VEVENT
BEGIN:VEVENT
DTSTART;TZID=UTC:20230715T090000
DTEND;TZID=UTC:20230715T110000
DTSTAMP:20260420T061550
CREATED:20230109T021123Z
LAST-MODIFIED:20230710T233728Z
UID:1077-1689411600-1689418800@lakedelavanhighlandsassociation.org
SUMMARY:Board of Director Meeting
DESCRIPTION:View the Agenda
URL:https://lakedelavanhighlandsassociation.org/event/board-of-director-meeting-7/
LOCATION:American Legion Delavan Post 95\, 111 S 2nd St\, Delavan\, WI\, 53115\, United States
CATEGORIES:Board Meeting,Meetings
ATTACH;FMTTYPE=image/png:https://lakedelavanhighlandsassociation.org/wp-content/uploads/2023/01/BOD-MEETING-1.png
ORGANIZER;CN="LDHA Board of Directors":MAILTO:secretary@ldhabod.org
END:VEVENT
BEGIN:VEVENT
DTSTART;TZID=UTC:20230623T180000
DTEND;TZID=UTC:20230623T193000
DTSTAMP:20260420T061550
CREATED:20230109T021054Z
LAST-MODIFIED:20230603T190459Z
UID:1074-1687543200-1687548600@lakedelavanhighlandsassociation.org
SUMMARY:Board of Director Meeting
DESCRIPTION:
URL:https://lakedelavanhighlandsassociation.org/event/board-of-director-meeting-6/
LOCATION:American Legion Delavan Post 95\, 111 S 2nd St\, Delavan\, WI\, 53115\, United States
CATEGORIES:Board Meeting,Meetings
ATTACH;FMTTYPE=image/png:https://lakedelavanhighlandsassociation.org/wp-content/uploads/2023/01/Important-Announcement.png
ORGANIZER;CN="LDHA Board of Directors":MAILTO:secretary@ldhabod.org
END:VEVENT
BEGIN:VEVENT
DTSTART;TZID=UTC:20230520T090000
DTEND;TZID=UTC:20230520T110000
DTSTAMP:20260420T061550
CREATED:20230109T021035Z
LAST-MODIFIED:20230512T140739Z
UID:1072-1684573200-1684580400@lakedelavanhighlandsassociation.org
SUMMARY:Board of Director Meeting
DESCRIPTION:VIEW AGENDA
URL:https://lakedelavanhighlandsassociation.org/event/board-of-director-meeting-5/
LOCATION:Wagon Wheel\, 2891 County Rd O South\, Delavan\, WI\, 53115\, United States
CATEGORIES:Board Meeting,Meetings
ORGANIZER;CN="LDHA Board of Directors":MAILTO:secretary@ldhabod.org
END:VEVENT
BEGIN:VEVENT
DTSTART;TZID=UTC:20230415T090000
DTEND;TZID=UTC:20230415T110000
DTSTAMP:20260420T061550
CREATED:20230109T021010Z
LAST-MODIFIED:20230109T021339Z
UID:1069-1681549200-1681556400@lakedelavanhighlandsassociation.org
SUMMARY:Board of Director Meeting
DESCRIPTION:
URL:https://lakedelavanhighlandsassociation.org/event/board-of-director-meeting-4/
LOCATION:Wagon Wheel\, 2891 County Rd O South\, Delavan\, WI\, 53115\, United States
CATEGORIES:Board Meeting,Meetings
ORGANIZER;CN="LDHA Board of Directors":MAILTO:secretary@ldhabod.org
END:VEVENT
BEGIN:VEVENT
DTSTART;TZID=UTC:20230318T090000
DTEND;TZID=UTC:20230318T110000
DTSTAMP:20260420T061550
CREATED:20230109T020750Z
LAST-MODIFIED:20230109T020843Z
UID:1066-1679130000-1679137200@lakedelavanhighlandsassociation.org
SUMMARY:Board of Director Meeting
DESCRIPTION:
URL:https://lakedelavanhighlandsassociation.org/event/board-of-director-meeting-3/
LOCATION:Wagon Wheel\, 2891 County Rd O South\, Delavan\, WI\, 53115\, United States
CATEGORIES:Board Meeting,Meetings
ORGANIZER;CN="LDHA Board of Directors":MAILTO:secretary@ldhabod.org
END:VEVENT
BEGIN:VEVENT
DTSTART;TZID=UTC:20230218T090000
DTEND;TZID=UTC:20230218T110000
DTSTAMP:20260420T061550
CREATED:20230109T020722Z
LAST-MODIFIED:20230109T020900Z
UID:1064-1676710800-1676718000@lakedelavanhighlandsassociation.org
SUMMARY:Board of Director Meeting
DESCRIPTION:
URL:https://lakedelavanhighlandsassociation.org/event/board-of-director-meeting-2/
LOCATION:Wagon Wheel\, 2891 County Rd O South\, Delavan\, WI\, 53115\, United States
CATEGORIES:Board Meeting,Meetings
ORGANIZER;CN="LDHA Board of Directors":MAILTO:secretary@ldhabod.org
END:VEVENT
BEGIN:VEVENT
DTSTART;TZID=UTC:20230121T090000
DTEND;TZID=UTC:20230121T110000
DTSTAMP:20260420T061550
CREATED:20230109T020524Z
LAST-MODIFIED:20230109T023109Z
UID:1058-1674291600-1674298800@lakedelavanhighlandsassociation.org
SUMMARY:Board of Director Meeting
DESCRIPTION:
URL:https://lakedelavanhighlandsassociation.org/event/board-of-director-meeting/
LOCATION:Wagon Wheel\, 2891 County Rd O South\, Delavan\, WI\, 53115\, United States
CATEGORIES:Board Meeting,Meetings
ORGANIZER;CN="LDHA Board of Directors":MAILTO:secretary@ldhabod.org
END:VEVENT
END:VCALENDAR