BEGIN:VCALENDAR
VERSION:2.0
PRODID:-//Lake Delavan Highlands Association - ECPv6.15.13//NONSGML v1.0//EN
CALSCALE:GREGORIAN
METHOD:PUBLISH
X-ORIGINAL-URL:https://lakedelavanhighlandsassociation.org
X-WR-CALDESC:Events for Lake Delavan Highlands Association
REFRESH-INTERVAL;VALUE=DURATION:PT1H
X-Robots-Tag:noindex
X-PUBLISHED-TTL:PT1H
BEGIN:VTIMEZONE
TZID:UTC
BEGIN:STANDARD
TZOFFSETFROM:+0000
TZOFFSETTO:+0000
TZNAME:UTC
DTSTART:20220101T000000
END:STANDARD
END:VTIMEZONE
BEGIN:VEVENT
DTSTART;VALUE=DATE:20230610
DTEND;VALUE=DATE:20230611
DTSTAMP:20260420T035722
CREATED:20230305T211822Z
LAST-MODIFIED:20230305T211822Z
UID:1884-1686355200-1686441599@lakedelavanhighlandsassociation.org
SUMMARY:Pavilion Rental / Turner
DESCRIPTION:
URL:https://lakedelavanhighlandsassociation.org/event/pavilion-rental-turner/
LOCATION:American Legion Delavan Post 95\, 111 S 2nd St\, Delavan\, WI\, 53115\, United States
CATEGORIES:Pavilion Rental
END:VEVENT
END:VCALENDAR