BEGIN:VCALENDAR
VERSION:2.0
PRODID:-//Lake Delavan Highlands Association - ECPv6.15.13//NONSGML v1.0//EN
CALSCALE:GREGORIAN
METHOD:PUBLISH
X-WR-CALNAME:Lake Delavan Highlands Association
X-ORIGINAL-URL:https://lakedelavanhighlandsassociation.org
X-WR-CALDESC:Events for Lake Delavan Highlands Association
REFRESH-INTERVAL;VALUE=DURATION:PT1H
X-Robots-Tag:noindex
X-PUBLISHED-TTL:PT1H
BEGIN:VTIMEZONE
TZID:UTC
BEGIN:STANDARD
TZOFFSETFROM:+0000
TZOFFSETTO:+0000
TZNAME:UTC
DTSTART:20220101T000000
END:STANDARD
END:VTIMEZONE
BEGIN:VEVENT
DTSTART;TZID=UTC:20230407T180000
DTEND;TZID=UTC:20230407T183000
DTSTAMP:20260421T191424
CREATED:20230319T012510Z
LAST-MODIFIED:20230403T055152Z
UID:2079-1680890400-1680892200@lakedelavanhighlandsassociation.org
SUMMARY:Special Events Committee Meeting
DESCRIPTION:We are seeking members that would like to donate their time and talents for the benefit of the community! Come to the meeting and learn more about the Special Events Committee.
URL:https://lakedelavanhighlandsassociation.org/event/special-events-committee-meeting/
LOCATION:American Legion Delavan Post 95\, 111 S 2nd St\, Delavan\, WI\, 53115\, United States
CATEGORIES:Meetings
END:VEVENT
BEGIN:VEVENT
DTSTART;TZID=UTC:20230318T090000
DTEND;TZID=UTC:20230318T110000
DTSTAMP:20260421T191424
CREATED:20230109T020750Z
LAST-MODIFIED:20230109T020843Z
UID:1066-1679130000-1679137200@lakedelavanhighlandsassociation.org
SUMMARY:Board of Director Meeting
DESCRIPTION:
URL:https://lakedelavanhighlandsassociation.org/event/board-of-director-meeting-3/
LOCATION:Wagon Wheel\, 2891 County Rd O South\, Delavan\, WI\, 53115\, United States
CATEGORIES:Board Meeting,Meetings
ORGANIZER;CN="LDHA Board of Directors":MAILTO:secretary@ldhabod.org
END:VEVENT
BEGIN:VEVENT
DTSTART;TZID=UTC:20230218T090000
DTEND;TZID=UTC:20230218T110000
DTSTAMP:20260421T191424
CREATED:20230109T020722Z
LAST-MODIFIED:20230109T020900Z
UID:1064-1676710800-1676718000@lakedelavanhighlandsassociation.org
SUMMARY:Board of Director Meeting
DESCRIPTION:
URL:https://lakedelavanhighlandsassociation.org/event/board-of-director-meeting-2/
LOCATION:Wagon Wheel\, 2891 County Rd O South\, Delavan\, WI\, 53115\, United States
CATEGORIES:Board Meeting,Meetings
ORGANIZER;CN="LDHA Board of Directors":MAILTO:secretary@ldhabod.org
END:VEVENT
BEGIN:VEVENT
DTSTART;VALUE=DATE:20230204
DTEND;VALUE=DATE:20230205
DTSTAMP:20260421T191424
CREATED:20230109T021317Z
LAST-MODIFIED:20230109T021949Z
UID:1085-1675468800-1675555199@lakedelavanhighlandsassociation.org
SUMMARY:Winterfest
DESCRIPTION:
URL:https://lakedelavanhighlandsassociation.org/event/winterfest/
LOCATION:American Legion Delavan Post 95\, 111 S 2nd St\, Delavan\, WI\, 53115\, United States
CATEGORIES:Events
ORGANIZER;CN="LDHA Board of Directors":MAILTO:secretary@ldhabod.org
END:VEVENT
BEGIN:VEVENT
DTSTART;TZID=UTC:20230121T090000
DTEND;TZID=UTC:20230121T110000
DTSTAMP:20260421T191424
CREATED:20230109T020524Z
LAST-MODIFIED:20230109T023109Z
UID:1058-1674291600-1674298800@lakedelavanhighlandsassociation.org
SUMMARY:Board of Director Meeting
DESCRIPTION:
URL:https://lakedelavanhighlandsassociation.org/event/board-of-director-meeting/
LOCATION:Wagon Wheel\, 2891 County Rd O South\, Delavan\, WI\, 53115\, United States
CATEGORIES:Board Meeting,Meetings
ORGANIZER;CN="LDHA Board of Directors":MAILTO:secretary@ldhabod.org
END:VEVENT
END:VCALENDAR