BEGIN:VCALENDAR
VERSION:2.0
PRODID:-//Lake Delavan Highlands Association - ECPv6.15.13//NONSGML v1.0//EN
CALSCALE:GREGORIAN
METHOD:PUBLISH
X-WR-CALNAME:Lake Delavan Highlands Association
X-ORIGINAL-URL:https://lakedelavanhighlandsassociation.org
X-WR-CALDESC:Events for Lake Delavan Highlands Association
REFRESH-INTERVAL;VALUE=DURATION:PT1H
X-Robots-Tag:noindex
X-PUBLISHED-TTL:PT1H
BEGIN:VTIMEZONE
TZID:UTC
BEGIN:STANDARD
TZOFFSETFROM:+0000
TZOFFSETTO:+0000
TZNAME:UTC
DTSTART:20250101T000000
END:STANDARD
END:VTIMEZONE
BEGIN:VEVENT
DTSTART;VALUE=DATE:20260704
DTEND;VALUE=DATE:20260705
DTSTAMP:20260420T123443
CREATED:20260411T160626Z
LAST-MODIFIED:20260411T160626Z
UID:4236-1783123200-1783209599@lakedelavanhighlandsassociation.org
SUMMARY:Fun Fair 2026
DESCRIPTION:
URL:https://lakedelavanhighlandsassociation.org/event/fun-fair-2026/
LOCATION:Joe Russo Pavilion & Canteen\, 4230 Beach Drive\, Delavan\, WI\, 53115\, United States
CATEGORIES:Events
ATTACH;FMTTYPE=image/png:https://lakedelavanhighlandsassociation.org/wp-content/uploads/2026/04/2026FunFair.png
ORGANIZER;CN="LDHA Board of Directors":MAILTO:secretary@ldhabod.org
END:VEVENT
END:VCALENDAR