BEGIN:VCALENDAR
VERSION:2.0
PRODID:-//Lake Delavan Highlands Association - ECPv6.15.13//NONSGML v1.0//EN
CALSCALE:GREGORIAN
METHOD:PUBLISH
X-ORIGINAL-URL:https://lakedelavanhighlandsassociation.org
X-WR-CALDESC:Events for Lake Delavan Highlands Association
REFRESH-INTERVAL;VALUE=DURATION:PT1H
X-Robots-Tag:noindex
X-PUBLISHED-TTL:PT1H
BEGIN:VTIMEZONE
TZID:America/Chicago
BEGIN:DAYLIGHT
TZOFFSETFROM:-0600
TZOFFSETTO:-0500
TZNAME:CDT
DTSTART:20240310T080000
END:DAYLIGHT
BEGIN:STANDARD
TZOFFSETFROM:-0500
TZOFFSETTO:-0600
TZNAME:CST
DTSTART:20241103T070000
END:STANDARD
BEGIN:DAYLIGHT
TZOFFSETFROM:-0600
TZOFFSETTO:-0500
TZNAME:CDT
DTSTART:20250309T080000
END:DAYLIGHT
BEGIN:STANDARD
TZOFFSETFROM:-0500
TZOFFSETTO:-0600
TZNAME:CST
DTSTART:20251102T070000
END:STANDARD
BEGIN:DAYLIGHT
TZOFFSETFROM:-0600
TZOFFSETTO:-0500
TZNAME:CDT
DTSTART:20260308T080000
END:DAYLIGHT
BEGIN:STANDARD
TZOFFSETFROM:-0500
TZOFFSETTO:-0600
TZNAME:CST
DTSTART:20261101T070000
END:STANDARD
END:VTIMEZONE
BEGIN:VEVENT
DTSTART;TZID=America/Chicago:20250816T090000
DTEND;TZID=America/Chicago:20250816T100000
DTSTAMP:20260420T100445
CREATED:20250318T015126Z
LAST-MODIFIED:20250318T015126Z
UID:3907-1755334800-1755338400@lakedelavanhighlandsassociation.org
SUMMARY:Board of Director Meeting
DESCRIPTION:Members are invited to attend the meeting online (GoTo Webinar). \nAGENDA: to be provided \nEven if you cannot attend\, registering will give you access to the recorded meeting. \nIf you have any questions or comments\, please send them to secretary@ldhabod.org ahead of time. \n  \nPlease register for LDHA Board of Directors Meeting – August 16\, 2025 on Aug 16\, 2025 9:00 AM CDT at: \nhttps://attendee.gotowebinar.com/register/2943496427668596565 \nAfter registering\, you will receive a confirmation email containing information about joining the webinar. \nBrought to you by GoTo Webinar®\nWebinars Made Easy®
URL:https://lakedelavanhighlandsassociation.org/event/board-of-director-meeting-24/
LOCATION:GoTo Meeting
CATEGORIES:Board Meeting,Meetings
ORGANIZER;CN="LDHA Board of Directors":MAILTO:secretary@ldhabod.org
END:VEVENT
BEGIN:VEVENT
DTSTART;TZID=America/Chicago:20250823T090000
DTEND;TZID=America/Chicago:20250823T100000
DTSTAMP:20260420T100445
CREATED:20250318T015349Z
LAST-MODIFIED:20250822T002519Z
UID:3909-1755939600-1755943200@lakedelavanhighlandsassociation.org
SUMMARY:2025 LDHA Annual Meeting  **Quorum Required**
DESCRIPTION:Members are invited to attend the meeting online (GoTo Webinar) or in-person at the Joe Russo Pavilion. \nMEETING AGENDA DOWNLOAD \nEven if you cannot attend\, registering will give you access to the recorded meeting. \nIf you have any questions or comments\, please send them to secretary@ldhabod.org ahead of time. \n  \nPlease register for LDHA Annual Meeting on Aug 23\, 2025 10:00 AM CDT at: \nhttps://attendee.gotowebinar.com/register/2943496427668596565 \nAfter registering\, you will receive a confirmation email containing information about joining the webinar.
URL:https://lakedelavanhighlandsassociation.org/event/2025-ldha-annual-meeting/
LOCATION:GoTo Meeting
CATEGORIES:Board Meeting,Meetings
ATTACH;FMTTYPE=image/png:https://lakedelavanhighlandsassociation.org/wp-content/uploads/2025/03/Screenshot-2025-08-21-191642.png
ORGANIZER;CN="LDHA Board of Directors":MAILTO:secretary@ldhabod.org
END:VEVENT
END:VCALENDAR